BEGIN:VCALENDAR
VERSION:2.0
PRODID:-//FYLPRO - ECPv6.15.20//NONSGML v1.0//EN
CALSCALE:GREGORIAN
METHOD:PUBLISH
X-ORIGINAL-URL:https://fylpro.org
X-WR-CALDESC:Events for FYLPRO
REFRESH-INTERVAL;VALUE=DURATION:PT1H
X-Robots-Tag:noindex
X-PUBLISHED-TTL:PT1H
BEGIN:VTIMEZONE
TZID:America/New_York
BEGIN:DAYLIGHT
TZOFFSETFROM:-0500
TZOFFSETTO:-0400
TZNAME:EDT
DTSTART:20240310T070000
END:DAYLIGHT
BEGIN:STANDARD
TZOFFSETFROM:-0400
TZOFFSETTO:-0500
TZNAME:EST
DTSTART:20241103T060000
END:STANDARD
BEGIN:DAYLIGHT
TZOFFSETFROM:-0500
TZOFFSETTO:-0400
TZNAME:EDT
DTSTART:20250309T070000
END:DAYLIGHT
BEGIN:STANDARD
TZOFFSETFROM:-0400
TZOFFSETTO:-0500
TZNAME:EST
DTSTART:20251102T060000
END:STANDARD
BEGIN:DAYLIGHT
TZOFFSETFROM:-0500
TZOFFSETTO:-0400
TZNAME:EDT
DTSTART:20260308T070000
END:DAYLIGHT
BEGIN:STANDARD
TZOFFSETFROM:-0400
TZOFFSETTO:-0500
TZNAME:EST
DTSTART:20261101T060000
END:STANDARD
END:VTIMEZONE
BEGIN:VEVENT
DTSTART;TZID=America/New_York:20251011T170000
DTEND;TZID=America/New_York:20251011T190000
DTSTAMP:20260424T154330
CREATED:20250925T125118Z
LAST-MODIFIED:20250925T125118Z
UID:30841-1760202000-1760209200@fylpro.org
SUMMARY:FYLPRO & Tayo Meet Up - Philadelphia - October 11
DESCRIPTION:Join FYLPRO and Tayo at our meet up in Philadelphia. \nMeet the local community and find out more about FYLPRO’s programs and initiatives.  \nLearn about Pinay Health: A FYLPRO Legacy Project. \nMeet us at The Welcoming Center\, 211 N 13th St 4th floor\, Philadelphia\, PA 1910 \nSaturday\, October 11\, 2025 \n5pm to 7pm \nRegister: https://bit.ly/FYLPROTayoMeetupPhilly
URL:https://fylpro.org/event/fylpro-tayo-meet-up-philadelphia-october-11/
ATTACH;FMTTYPE=image/png:https://fylpro.org/wp-content/uploads/2025/09/1.png
END:VEVENT
BEGIN:VEVENT
DTSTART;TZID=America/New_York:20251024T213000
DTEND;TZID=America/New_York:20251024T230000
DTSTAMP:20260424T154330
CREATED:20251004T170319Z
LAST-MODIFIED:20251004T170319Z
UID:30894-1761341400-1761346800@fylpro.org
SUMMARY:FYLPRO & Tayo Meet Up - Detroit - October 24
DESCRIPTION:Join FYLPRO and Tayo at our meet up in Detroit. \nTayo core team members will be in Detroit supporting our friends Rising Voices at the fourth edition of their Artist Salon series. Looking to hang out after the event and connect further with the community? \nJoin us for an informal gathering at Detroit Shipping Company starting at 9:30pm! \nDetroit Shipping Company\, 474 Peterboro Street\, Detroit\, MI 48201 \nFriday\, October 24\, 2025 \nRegister: https://bit.ly/FYLPROTayoMeetupDetroit
URL:https://fylpro.org/event/fylpro-tayo-meet-up-detroit-october-24/
ATTACH;FMTTYPE=image/png:https://fylpro.org/wp-content/uploads/2025/10/TAYO_2025-Meetup-Detroit.png
END:VEVENT
END:VCALENDAR