BEGIN:VCALENDAR
VERSION:2.0
PRODID:-//FYLPRO - ECPv6.15.20//NONSGML v1.0//EN
CALSCALE:GREGORIAN
METHOD:PUBLISH
X-WR-CALNAME:FYLPRO
X-ORIGINAL-URL:https://fylpro.org
X-WR-CALDESC:Events for FYLPRO
REFRESH-INTERVAL;VALUE=DURATION:PT1H
X-Robots-Tag:noindex
X-PUBLISHED-TTL:PT1H
BEGIN:VTIMEZONE
TZID:Pacific/Honolulu
BEGIN:STANDARD
TZOFFSETFROM:-1000
TZOFFSETTO:-1000
TZNAME:HST
DTSTART:20240101T000000
END:STANDARD
END:VTIMEZONE
BEGIN:VTIMEZONE
TZID:America/Toronto
BEGIN:DAYLIGHT
TZOFFSETFROM:-0500
TZOFFSETTO:-0400
TZNAME:EDT
DTSTART:20240310T070000
END:DAYLIGHT
BEGIN:STANDARD
TZOFFSETFROM:-0400
TZOFFSETTO:-0500
TZNAME:EST
DTSTART:20241103T060000
END:STANDARD
BEGIN:DAYLIGHT
TZOFFSETFROM:-0500
TZOFFSETTO:-0400
TZNAME:EDT
DTSTART:20250309T070000
END:DAYLIGHT
BEGIN:STANDARD
TZOFFSETFROM:-0400
TZOFFSETTO:-0500
TZNAME:EST
DTSTART:20251102T060000
END:STANDARD
BEGIN:DAYLIGHT
TZOFFSETFROM:-0500
TZOFFSETTO:-0400
TZNAME:EDT
DTSTART:20260308T070000
END:DAYLIGHT
BEGIN:STANDARD
TZOFFSETFROM:-0400
TZOFFSETTO:-0500
TZNAME:EST
DTSTART:20261101T060000
END:STANDARD
END:VTIMEZONE
BEGIN:VTIMEZONE
TZID:America/New_York
BEGIN:DAYLIGHT
TZOFFSETFROM:-0500
TZOFFSETTO:-0400
TZNAME:EDT
DTSTART:20240310T070000
END:DAYLIGHT
BEGIN:STANDARD
TZOFFSETFROM:-0400
TZOFFSETTO:-0500
TZNAME:EST
DTSTART:20241103T060000
END:STANDARD
BEGIN:DAYLIGHT
TZOFFSETFROM:-0500
TZOFFSETTO:-0400
TZNAME:EDT
DTSTART:20250309T070000
END:DAYLIGHT
BEGIN:STANDARD
TZOFFSETFROM:-0400
TZOFFSETTO:-0500
TZNAME:EST
DTSTART:20251102T060000
END:STANDARD
BEGIN:DAYLIGHT
TZOFFSETFROM:-0500
TZOFFSETTO:-0400
TZNAME:EDT
DTSTART:20260308T070000
END:DAYLIGHT
BEGIN:STANDARD
TZOFFSETFROM:-0400
TZOFFSETTO:-0500
TZNAME:EST
DTSTART:20261101T060000
END:STANDARD
END:VTIMEZONE
BEGIN:VEVENT
DTSTART;TZID=Pacific/Honolulu:20250731T180000
DTEND;TZID=Pacific/Honolulu:20250731T190000
DTSTAMP:20260424T192053
CREATED:20250727T170347Z
LAST-MODIFIED:20250728T175403Z
UID:30368-1753984800-1753988400@fylpro.org
SUMMARY:Webinar: The State of Immigration - What You Need to Know - July 31
DESCRIPTION:Join us for an informative session on the latest immigration updates\, resources\, and real stories from experts and community advocates. \nIn this virtual Tayo webinar featuring FYLPRO alumni:\n-FYLPRO 2019 delegate Sergio J. Alcubilla III Esq.\, Director of Community Engagement at ACLU Hawaii\n-FYLPRO 2022 delegate and Executive Vice President Constancio Paranal III\, Managing Director at Hawaii Coalition for Immigrant Rights\n-FYLPRO 2024 delegate Nanor Wong\, Esq.\, Immigration Attorney\, The Legal Clinic \nGet an update on how current policies impact the Filipino diaspora. \nWhen: Thursday\, July 31 at 6pm Hawaii/9pm Pacific \nRegister: https://bit.ly/TayoImmigrationWebinar
URL:https://fylpro.org/event/webinar-the-state-of-immigration-what-you-need-to-know-july-31/
LOCATION:Virtual
ATTACH;FMTTYPE=image/png:https://fylpro.org/wp-content/uploads/2025/07/FYLPRO_2025-Immigration-Webinar-1.png
END:VEVENT
BEGIN:VEVENT
DTSTART;TZID=America/Toronto:20250809T170000
DTEND;TZID=America/Toronto:20250809T190000
DTSTAMP:20260424T192053
CREATED:20250806T005818Z
LAST-MODIFIED:20250808T115249Z
UID:30444-1754758800-1754766000@fylpro.org
SUMMARY:FYLPRO & Tayo Meet Up - Toronto - August 9
DESCRIPTION:Join FYLPRO and Tayo at our meet up in Toronto. \nWe are in town for National Conference of Bar Presidents annual meeting. \nMeet the local community and find out more about FYLPRO’s programs and initiatives. \nMeet us at The Chefs Hall (meet us near the outdoor patio) \n111 Richmond St W\, Toronto\, ON M5H 2G4\, Canada \nSaturday\, August 9\, 2025 \n5pm to 7pm \nRegister: https://bit.ly/FYLPROTayoTorontoMeetup
URL:https://fylpro.org/event/fylpro-tayo-meet-up-toronto-august-9/
ATTACH;FMTTYPE=image/png:https://fylpro.org/wp-content/uploads/2025/08/TAYO_2025-Meetup-August-Toronto-2.png
END:VEVENT
BEGIN:VEVENT
DTSTART;TZID=America/New_York:20250827T200000
DTEND;TZID=America/New_York:20250827T210000
DTSTAMP:20260424T192053
CREATED:20250813T110334Z
LAST-MODIFIED:20250813T111419Z
UID:30514-1756324800-1756328400@fylpro.org
SUMMARY:Webinar: Hoy Tito! Watch Out for Gout - Managing Joint Health for Filipinos - August 27
DESCRIPTION:Learn from expert physicians about clinical gout symptoms\, treatment\, and prevention in the Filipino American community. \nWe will also feature kuwentos from Titos living with gout to share how this condition affects their families\, foodways\, and fellow Filipinos. \nUsap Tayo: Hoy Tito! Watch Out for Gout – Managing Joint Health for Filipinos \nWhen: Wednesday\, August 27\, 2025 at 8pm ET/5pm PT \nGuest Speaker: Dr. Agnes Solon-Ashby\, M.D. Rheumatologist \nPanelists: Tayo Co-Founders Joshua Ang Price and Mark Calaguas \nRegister: https://bit.ly/TayoGoutWebinar
URL:https://fylpro.org/event/webinar-hoy-tito-watch-out-for-gout-managing-joint-health-for-filipinos-august-27/
ATTACH;FMTTYPE=image/png:https://fylpro.org/wp-content/uploads/2025/08/TAYO_2025-USAP-TAYO-Gout-2.png
END:VEVENT
END:VCALENDAR