BEGIN:VCALENDAR
VERSION:2.0
PRODID:-//FYLPRO - ECPv6.15.20//NONSGML v1.0//EN
CALSCALE:GREGORIAN
METHOD:PUBLISH
X-ORIGINAL-URL:https://fylpro.org
X-WR-CALDESC:Events for FYLPRO
REFRESH-INTERVAL;VALUE=DURATION:PT1H
X-Robots-Tag:noindex
X-PUBLISHED-TTL:PT1H
BEGIN:VTIMEZONE
TZID:America/Los_Angeles
BEGIN:DAYLIGHT
TZOFFSETFROM:-0800
TZOFFSETTO:-0700
TZNAME:PDT
DTSTART:20240310T100000
END:DAYLIGHT
BEGIN:STANDARD
TZOFFSETFROM:-0700
TZOFFSETTO:-0800
TZNAME:PST
DTSTART:20241103T090000
END:STANDARD
BEGIN:DAYLIGHT
TZOFFSETFROM:-0800
TZOFFSETTO:-0700
TZNAME:PDT
DTSTART:20250309T100000
END:DAYLIGHT
BEGIN:STANDARD
TZOFFSETFROM:-0700
TZOFFSETTO:-0800
TZNAME:PST
DTSTART:20251102T090000
END:STANDARD
BEGIN:DAYLIGHT
TZOFFSETFROM:-0800
TZOFFSETTO:-0700
TZNAME:PDT
DTSTART:20260308T100000
END:DAYLIGHT
BEGIN:STANDARD
TZOFFSETFROM:-0700
TZOFFSETTO:-0800
TZNAME:PST
DTSTART:20261101T090000
END:STANDARD
END:VTIMEZONE
BEGIN:VTIMEZONE
TZID:America/New_York
BEGIN:DAYLIGHT
TZOFFSETFROM:-0500
TZOFFSETTO:-0400
TZNAME:EDT
DTSTART:20240310T070000
END:DAYLIGHT
BEGIN:STANDARD
TZOFFSETFROM:-0400
TZOFFSETTO:-0500
TZNAME:EST
DTSTART:20241103T060000
END:STANDARD
BEGIN:DAYLIGHT
TZOFFSETFROM:-0500
TZOFFSETTO:-0400
TZNAME:EDT
DTSTART:20250309T070000
END:DAYLIGHT
BEGIN:STANDARD
TZOFFSETFROM:-0400
TZOFFSETTO:-0500
TZNAME:EST
DTSTART:20251102T060000
END:STANDARD
BEGIN:DAYLIGHT
TZOFFSETFROM:-0500
TZOFFSETTO:-0400
TZNAME:EDT
DTSTART:20260308T070000
END:DAYLIGHT
BEGIN:STANDARD
TZOFFSETFROM:-0400
TZOFFSETTO:-0500
TZNAME:EST
DTSTART:20261101T060000
END:STANDARD
END:VTIMEZONE
BEGIN:VEVENT
DTSTART;TZID=America/Los_Angeles:20250721T170000
DTEND;TZID=America/Los_Angeles:20250721T180000
DTSTAMP:20260424T205744
CREATED:20250714T150321Z
LAST-MODIFIED:20250714T153025Z
UID:30242-1753117200-1753120800@fylpro.org
SUMMARY:Usap Tayo - How to Have Hard Conversations in Filipino Families - July 21
DESCRIPTION:During these changing times\, it can be difficult to have conversations about issues that have a profound impact in our daily lives. \nIn this virtual webinar\, “Usap Tayo – How to Have Hard Conversations in Filipino Families\,” we tackle boundaries\, conflict\, and communication without disrespect. \nWhen: Monday\, July 21\, 2025 at 5pm PT/8pm ET \nRegister: bit.ly/UsapTayoWebinarJuly \nLearn how to set boundaries with parents or titos/titas without being seen as “disrespectful.” \nWe’ll talk about managing guilt\, hiya\, and pakikisama\, and share practical scripts for handling gossip\, unsolicited advice\, and expectations. \nWe’ll also explore “taboo” topics like dating\, gender\, therapy\, and career choices. It’s a space to unlearn shame\, speak with compassion\, and heal together. \nThis discussion is facilitated by Christine R. Melendres\, LCSW and Roanne Samuels. \nBios: \n \nChristine R. Melendres is the Founder & CEO of Sweet Mango Therapy Group\, a California-based psychotherapy practice and the first Filipina-owned group dedicated to serving the Filipina/x/o and AAPI communities in the United States. Born in Iba\, Zambales\, the home of the world’s sweetest mangoes\, Christine’s roots are deeply tied to the Kapampangan and Sambal people. She immigrated to the United States at age 3 and became the first in her family to graduate from college in the United States and become a licensed therapist. \nChristine earned her degree in Sociology from UC Berkeley and completed her Master of Social Work at San Francisco State University. Her passion for mental health is driven by her immigration experiences and bicultural identity. She specializes in supporting high-performing BIPOC women focusing on issues such as burnout\, anxiety\, depression\, trauma\, and imposter syndrome. Her approach is culturally sensitive and trauma-informed\, backed by over 10 years of experience in various clinical settings. \nIn addition to her practice\, Christine is a speaker\, presenting on mental health and wellness at Bay Area companies. She also serves on the board of directors for the Filipino Young Leaders Program (FYLPRO)\, where she continues to foster leadership and collaboration within the Filipino community\, having been a FYLPRO delegate in 2023. In her free time\, Christine enjoys playing with her two young children\, watching comedy shows with her husband\, listening to podcasts\, swimming\, and practicing yoga. \n \nRoanne Samuels has been a Psychotherapist for more than 17+ years. She began her career working with low income\,  high risk families in treating complex trauma & promoting positive attachment outcomes. She also served as Tagalog speaking Social Worker in Solano County for 5 years & has visited more than 500 Filipino households.  Roanne pioneered and led the 1st Filipino Outreach Project in the same county aimed at mental health stigma reduction. She has created various presentations on providing culturally-responsive care to the Filipinx population. Her presentations have been presented to various organizations including the UC Davis Center for Reducing Health Disparities Team\, UC Davis Bulosan Filipinx Studies\, NPR and others. \nShe is a contributing writer for psychotherapy.net. She is a Filipina immigrant mom of 4. Today\, Roanne is in private practice and works as a consultant for Solano County School District. She is the blogger behind kalamansijuice.com & the podcaster behind Pinoy Love Language Podcast.  And\, when Roanne is not in session\, you can often find her belly laughing with her children & pulling weeds in her garden.
URL:https://fylpro.org/event/usap-tayo-how-to-have-hard-conversations-in-filipino-families-july-21/
LOCATION:Virtual
ATTACH;FMTTYPE=image/png:https://fylpro.org/wp-content/uploads/2025/07/TAYO_2025-USAP-TAYO-How-to-Have-Hard-Conversations-in-Filipino-Families.png
END:VEVENT
BEGIN:VEVENT
DTSTART;TZID=America/New_York:20250728T183000
DTEND;TZID=America/New_York:20250728T193000
DTSTAMP:20260424T205744
CREATED:20250715T114512Z
LAST-MODIFIED:20250716T105211Z
UID:30276-1753727400-1753731000@fylpro.org
SUMMARY:FYLPRO & Tayo Meet Up - Atlanta - July 28
DESCRIPTION:Join FYLPRO and Tayo at our meet up in Atlanta. \nWe are in town for National Conference on Health Communication\, Marketing and Media. \nMeet the local community and find out more about FYLPRO’s programs and initiatives. \nMeet us at Estrellita\n580 Woodward Ave SE\, Atlanta\, GA 30312 \nMonday\, July 28\, 2025\n6:30pm to 7:30pm \nRegister: https://bit.ly/FYLPROTayoMeetupAtlanta
URL:https://fylpro.org/event/fylpro-tayo-meet-up-atlanta-july-28/
ATTACH;FMTTYPE=image/png:https://fylpro.org/wp-content/uploads/2025/07/TAYO_2025-Meetup-July-Atlanta-2.png
END:VEVENT
END:VCALENDAR