BEGIN:VCALENDAR
VERSION:2.0
PRODID:-//FYLPRO - ECPv6.15.20//NONSGML v1.0//EN
CALSCALE:GREGORIAN
METHOD:PUBLISH
X-WR-CALNAME:FYLPRO
X-ORIGINAL-URL:https://fylpro.org
X-WR-CALDESC:Events for FYLPRO
REFRESH-INTERVAL;VALUE=DURATION:PT1H
X-Robots-Tag:noindex
X-PUBLISHED-TTL:PT1H
BEGIN:VTIMEZONE
TZID:America/Los_Angeles
BEGIN:DAYLIGHT
TZOFFSETFROM:-0800
TZOFFSETTO:-0700
TZNAME:PDT
DTSTART:20240310T100000
END:DAYLIGHT
BEGIN:STANDARD
TZOFFSETFROM:-0700
TZOFFSETTO:-0800
TZNAME:PST
DTSTART:20241103T090000
END:STANDARD
BEGIN:DAYLIGHT
TZOFFSETFROM:-0800
TZOFFSETTO:-0700
TZNAME:PDT
DTSTART:20250309T100000
END:DAYLIGHT
BEGIN:STANDARD
TZOFFSETFROM:-0700
TZOFFSETTO:-0800
TZNAME:PST
DTSTART:20251102T090000
END:STANDARD
BEGIN:DAYLIGHT
TZOFFSETFROM:-0800
TZOFFSETTO:-0700
TZNAME:PDT
DTSTART:20260308T100000
END:DAYLIGHT
BEGIN:STANDARD
TZOFFSETFROM:-0700
TZOFFSETTO:-0800
TZNAME:PST
DTSTART:20261101T090000
END:STANDARD
END:VTIMEZONE
BEGIN:VTIMEZONE
TZID:America/New_York
BEGIN:DAYLIGHT
TZOFFSETFROM:-0500
TZOFFSETTO:-0400
TZNAME:EDT
DTSTART:20240310T070000
END:DAYLIGHT
BEGIN:STANDARD
TZOFFSETFROM:-0400
TZOFFSETTO:-0500
TZNAME:EST
DTSTART:20241103T060000
END:STANDARD
BEGIN:DAYLIGHT
TZOFFSETFROM:-0500
TZOFFSETTO:-0400
TZNAME:EDT
DTSTART:20250309T070000
END:DAYLIGHT
BEGIN:STANDARD
TZOFFSETFROM:-0400
TZOFFSETTO:-0500
TZNAME:EST
DTSTART:20251102T060000
END:STANDARD
BEGIN:DAYLIGHT
TZOFFSETFROM:-0500
TZOFFSETTO:-0400
TZNAME:EDT
DTSTART:20260308T070000
END:DAYLIGHT
BEGIN:STANDARD
TZOFFSETFROM:-0400
TZOFFSETTO:-0500
TZNAME:EST
DTSTART:20261101T060000
END:STANDARD
END:VTIMEZONE
BEGIN:VTIMEZONE
TZID:Pacific/Honolulu
BEGIN:STANDARD
TZOFFSETFROM:-1000
TZOFFSETTO:-1000
TZNAME:HST
DTSTART:20240101T000000
END:STANDARD
END:VTIMEZONE
BEGIN:VEVENT
DTSTART;TZID=America/Los_Angeles:20250508T173000
DTEND;TZID=America/Los_Angeles:20250508T190000
DTSTAMP:20260425T000703
CREATED:20250424T113324Z
LAST-MODIFIED:20250502T121513Z
UID:29662-1746725400-1746730800@fylpro.org
SUMMARY:FYLPRO Roadshow: Los Angeles\, California - May 8
DESCRIPTION:Join us for our 2025 Roadshow across the U.S. with a stop in Los Angeles on May 8\, 2025. \nJoin us at University of Southern California- Lloyd Greif Center \n5th Floor\, Fertitta Hall\, 610 Childs Way\, Los Angeles\, CA 90089 \nTime: 530 to 730 pm \nRegister: https://bit.ly/FYLPROLosAngeles2025 \nFind out more about FYLPRO’s programs like Tayo and initiatives for young leaders in the diaspora and how to become a member. \nAs a volunteer-led 501(c) 3 non-profit organization\, all donations to FYLPRO are 100% tax deductible. \nSupport us: fylpro.wildapricot.org/support\nJoin as a member: fylpro.wildapricot.org
URL:https://fylpro.org/event/fylpro-roadshow-los-angeles-california-may-8/
ATTACH;FMTTYPE=image/png:https://fylpro.org/wp-content/uploads/2025/04/Los-Angeles-CA-1.png
END:VEVENT
BEGIN:VEVENT
DTSTART;TZID=America/New_York:20250509T183000
DTEND;TZID=America/New_York:20250509T193000
DTSTAMP:20260425T000703
CREATED:20250428T021131Z
LAST-MODIFIED:20250428T021131Z
UID:29687-1746815400-1746819000@fylpro.org
SUMMARY:FYLPRO Roadshow: Philadelphia\, Pennsylvania - May 9
DESCRIPTION:Join us for our 2025 Roadshow across the U.S. with a stop in Philadelphia on May 9\, 2025. \nJoin us at Banana Leaf Restaurant 1009 Arch Street\, Philadelphia\, PA 19107 \nTime: 5:30 pm to 7:30 pm \nFind out more about FYLPRO’s programs like Tayo and initiatives for young leaders in the diaspora and how to become a member. \nRegister: https://bit.ly/FYLPROPhiladelphia2025 \nAs a volunteer-led 501(c) 3 non-profit organization\, all donations to FYLPRO are 100% tax deductible.\nJoin as a member: fylpro.wildapricot.org \nSupport us: fylpro.wildapricot.org/support
URL:https://fylpro.org/event/fylpro-roadshow-philadelphia-pennsylvania-may-9/
ATTACH;FMTTYPE=image/png:https://fylpro.org/wp-content/uploads/2025/04/PHILADELPHIA-PA.png
END:VEVENT
BEGIN:VEVENT
DTSTART;TZID=Pacific/Honolulu:20250515T163000
DTEND;TZID=Pacific/Honolulu:20250515T190000
DTSTAMP:20260425T000703
CREATED:20250429T111527Z
LAST-MODIFIED:20250429T111527Z
UID:29678-1747326600-1747335600@fylpro.org
SUMMARY:FYLPRO Roadshow: Honolulu\, Hawaii - May 15
DESCRIPTION:Join us for our 2025 Roadshow across the U.S. with a stop in Honolulu on May 15\, 2025. \nJoin us at Consulate General of the Philippines Honolulu\n2433 HI-61\, Honolulu\, HI 96817 \nTime: 4:30 to 7:00 pm \nRegister: https://bit.ly/FYLPROHawaii2025 \nFind out more about FYLPRO’s programs like Tayo and initiatives for young leaders in the diaspora and how to become a member. \nAs a volunteer-led 501(c) 3 non-profit organization\, all donations to FYLPRO are 100% tax deductible.\nJoin as a member: fylpro.wildapricot.org \nSupport us: fylpro.wildapricot.org/support
URL:https://fylpro.org/event/fylpro-roadshow-honolulu-hawaii-may-15/
ATTACH;FMTTYPE=image/png:https://fylpro.org/wp-content/uploads/2025/04/Honolulu-HI.png
END:VEVENT
BEGIN:VEVENT
DTSTART;TZID=America/New_York:20250515T173000
DTEND;TZID=America/New_York:20250515T193000
DTSTAMP:20260425T000703
CREATED:20250429T111803Z
LAST-MODIFIED:20250429T111803Z
UID:29675-1747330200-1747337400@fylpro.org
SUMMARY:FYLPRO Roadshow: Jacksonville\, Florida - May 15
DESCRIPTION:Join us for our 2025 Roadshow across the U.S. with a stop in Jacksonville on May 15\, 2025. \nJoin us at Posewell Studios\, 2107 Dellwood Ave. Jacksonville\, FL 32204 \nTime: 5:30 to 7:30 pm \nRegister: https://bit.ly/FYLPROJacksonville2025 \nFind out more about FYLPRO’s programs like Tayo and initiatives for young leaders in the diaspora and how to become a member. \nAs a volunteer-led 501(c) 3 non-profit organization\, all donations to FYLPRO are 100% tax deductible.\nJoin as a member: fylpro.wildapricot.org \nSupport us: fylpro.wildapricot.org/support
URL:https://fylpro.org/event/fylpro-roadshow-jacksonville-florida-may-15/
ATTACH;FMTTYPE=image/png:https://fylpro.org/wp-content/uploads/2025/04/Jacksonville-FL.png
END:VEVENT
BEGIN:VEVENT
DTSTART;TZID=America/Los_Angeles:20250528T180000
DTEND;TZID=America/Los_Angeles:20250528T200000
DTSTAMP:20260425T000703
CREATED:20250508T112255Z
LAST-MODIFIED:20250521T181811Z
UID:29724-1748455200-1748462400@fylpro.org
SUMMARY:FYLPRO Roadshow: San Francisco\, California - May 28
DESCRIPTION:Join us for our 2025 Roadshow across the U.S. with a stop in San Francisco on May 28\, 2025. \nJoin us at Consulate General of the Philippines San Francisco\n447 Sutter St. San Francisco\, CA 94108 \nTime: 6pm to 8pm \nRegister: https://bit.ly/FYLPROSanFrancisco2025 \nJoin us for a conversation on “Sanctuary and Survival: Immigration Rights and Tariff Realities for Filipino American Families and Businesses” \nGuest Speakers:\n-Attorney Lou Tancinco: a seasoned immigration lawyer and advocate\, specializes in guiding Filipino immigrants through the complexities of U.S. immigration law.\n-Susie Quesada: President of Ramar Foods\, a third-generation family business in bringing authentic Filipino flavors to global markets\nModerator: Dyanna Volek: FYLPRO 2024 Delegate (Batch 11) \nFind out more about FYLPRO’s programs like Tayo and initiatives for young leaders in the diaspora and how to become a member. \nAs a volunteer-led 501(c) 3 non-profit organization\, all donations to FYLPRO are 100% tax deductible.\nJoin as a member: fylpro.wildapricot.org \nSupport us: fylpro.wildapricot.org/support
URL:https://fylpro.org/event/fylpro-roadshow-san-francisco-california-may-28/
ATTACH;FMTTYPE=image/jpeg:https://fylpro.org/wp-content/uploads/2025/05/SF-FYLPRO-Mixer-Panel-scaled.jpg
END:VEVENT
BEGIN:VEVENT
DTSTART;TZID=America/New_York:20250528T190000
DTEND;TZID=America/New_York:20250528T203000
DTSTAMP:20260425T000703
CREATED:20250510T184506Z
LAST-MODIFIED:20250515T215814Z
UID:29766-1748458800-1748464200@fylpro.org
SUMMARY:Tayo Webinar: Isang Bagsak with Black Lives: Combating Anti-Blackness in the Filipina/x/o American Community
DESCRIPTION:UPDATE – DATE CHANGE! This is now on May 28\, 2025 \nJoin public educators Tony DelaRosa and Rohan Zhou-Lee as they teach how to identify\, define\, and disrupt anti-Blackness as it shows up in the Filipina/x/o American community. \nFYLPRO’s Tayo webinar focuses on how anti-blackness manifests at the interpersonal level. \nIt provides research on combating anti-blackness\, case study analysis\, and engages in a fireside chat with Rohan as a Black-Filipinx community leader.  \nDate: May 28\, 2025 \nTime: 7:00pm-8:30pm ET \nRegister: https://bit.ly/TayoIsangBagsak
URL:https://fylpro.org/event/tayo-webinar-isang-bagsak-with-black-lives-combating-anti-blackness-in-the-filipina-x-o-american-community/
ATTACH;FMTTYPE=image/png:https://fylpro.org/wp-content/uploads/2025/05/TAYO_2025-Isang-Bagsak-with-Black-Lives-1.png
END:VEVENT
BEGIN:VEVENT
DTSTART;TZID=America/New_York:20250529T183000
DTEND;TZID=America/New_York:20250529T203000
DTSTAMP:20260425T000703
CREATED:20250508T112311Z
LAST-MODIFIED:20250511T012732Z
UID:29723-1748543400-1748550600@fylpro.org
SUMMARY:FYLPRO Roadshow: Washington\, D.C. - May 29
DESCRIPTION:Join us for our 2025 Roadshow across the U.S. with a stop in Washington D.C. on May 29\, 2025. \nJoin us at Philippine Embassy in Washington D.C.\n1617 Massachusetts Avenue NW\, Washington\, D.C. 20036 \nTime: 6:30pm to 8:30pm \nRegister: https://bit.ly/FYLPROWashington2025 \nFind out more about FYLPRO’s programs like Tayo and initiatives for young leaders in the diaspora and how to become a member. \nAs a volunteer-led 501(c) 3 non-profit organization\, all donations to FYLPRO are 100% tax deductible.\nJoin as a member: fylpro.wildapricot.org \nSupport us: fylpro.wildapricot.org/support
URL:https://fylpro.org/event/fylpro-roadshow-washington-d-c-may-29/
ATTACH;FMTTYPE=image/png:https://fylpro.org/wp-content/uploads/2025/05/Washington-DC-2.png
END:VEVENT
END:VCALENDAR