BEGIN:VCALENDAR
VERSION:2.0
PRODID:-//FYLPRO - ECPv6.15.20//NONSGML v1.0//EN
CALSCALE:GREGORIAN
METHOD:PUBLISH
X-ORIGINAL-URL:https://fylpro.org
X-WR-CALDESC:Events for FYLPRO
REFRESH-INTERVAL;VALUE=DURATION:PT1H
X-Robots-Tag:noindex
X-PUBLISHED-TTL:PT1H
BEGIN:VTIMEZONE
TZID:America/New_York
BEGIN:DAYLIGHT
TZOFFSETFROM:-0500
TZOFFSETTO:-0400
TZNAME:EDT
DTSTART:20250309T070000
END:DAYLIGHT
BEGIN:STANDARD
TZOFFSETFROM:-0400
TZOFFSETTO:-0500
TZNAME:EST
DTSTART:20251102T060000
END:STANDARD
BEGIN:DAYLIGHT
TZOFFSETFROM:-0500
TZOFFSETTO:-0400
TZNAME:EDT
DTSTART:20260308T070000
END:DAYLIGHT
BEGIN:STANDARD
TZOFFSETFROM:-0400
TZOFFSETTO:-0500
TZNAME:EST
DTSTART:20261101T060000
END:STANDARD
BEGIN:DAYLIGHT
TZOFFSETFROM:-0500
TZOFFSETTO:-0400
TZNAME:EDT
DTSTART:20270314T070000
END:DAYLIGHT
BEGIN:STANDARD
TZOFFSETFROM:-0400
TZOFFSETTO:-0500
TZNAME:EST
DTSTART:20271107T060000
END:STANDARD
END:VTIMEZONE
BEGIN:VEVENT
DTSTART;TZID=America/New_York:20260414T170000
DTEND;TZID=America/New_York:20260414T183000
DTSTAMP:20260424T153547
CREATED:20260409T112946Z
LAST-MODIFIED:20260412T153449Z
UID:31888-1776186000-1776191400@fylpro.org
SUMMARY:FYLPRO Roadshow: Charlotte\, North Carolina - April 14
DESCRIPTION:Join us on April 14 in Charlotte\, North Carolina as we kick off our 2026 roadshow. \nAttendees will hear about FYLPRO’s leadership programs\, alumni legacy projects\, and the ways our network continues to create meaningful impact across the Filipino diaspora and in the Philippines. \nMeet event ambassador FYLPRO President Elect Daniel P. Galeon. \nWhether you are new to FYLPRO or have been connected to our work for years\, we welcome you to join us for an evening of connection\, conversation\, and shared purpose. \nTuesday\, April 14\, 2026 \n5pm to 6:30pm \nHawkers Asian Street Food \n1930 Camden Rd #260 \nCharlotte\, NC 28203 \nRSVP: bit.ly/FYLPROCharlotteNC
URL:https://fylpro.org/event/fylpro-roadshow-charlotte-north-carolina-april-14/
ATTACH;FMTTYPE=image/png:https://fylpro.org/wp-content/uploads/2026/04/Charlotte-NC-2.png
ORGANIZER;CN="FYLPRO":MAILTO:leezel.tanglao@fylpro.org
END:VEVENT
END:VCALENDAR