BEGIN:VCALENDAR
VERSION:2.0
PRODID:-//FYLPRO - ECPv6.15.20//NONSGML v1.0//EN
CALSCALE:GREGORIAN
METHOD:PUBLISH
X-ORIGINAL-URL:https://fylpro.org
X-WR-CALDESC:Events for FYLPRO
REFRESH-INTERVAL;VALUE=DURATION:PT1H
X-Robots-Tag:noindex
X-PUBLISHED-TTL:PT1H
BEGIN:VTIMEZONE
TZID:America/New_York
BEGIN:DAYLIGHT
TZOFFSETFROM:-0500
TZOFFSETTO:-0400
TZNAME:EDT
DTSTART:20240310T070000
END:DAYLIGHT
BEGIN:STANDARD
TZOFFSETFROM:-0400
TZOFFSETTO:-0500
TZNAME:EST
DTSTART:20241103T060000
END:STANDARD
BEGIN:DAYLIGHT
TZOFFSETFROM:-0500
TZOFFSETTO:-0400
TZNAME:EDT
DTSTART:20250309T070000
END:DAYLIGHT
BEGIN:STANDARD
TZOFFSETFROM:-0400
TZOFFSETTO:-0500
TZNAME:EST
DTSTART:20251102T060000
END:STANDARD
BEGIN:DAYLIGHT
TZOFFSETFROM:-0500
TZOFFSETTO:-0400
TZNAME:EDT
DTSTART:20260308T070000
END:DAYLIGHT
BEGIN:STANDARD
TZOFFSETFROM:-0400
TZOFFSETTO:-0500
TZNAME:EST
DTSTART:20261101T060000
END:STANDARD
END:VTIMEZONE
BEGIN:VEVENT
DTSTART;TZID=America/New_York:20251217T200000
DTEND;TZID=America/New_York:20251217T210000
DTSTAMP:20260424T133826
CREATED:20251212T045519Z
LAST-MODIFIED:20251212T045519Z
UID:31383-1766001600-1766005200@fylpro.org
SUMMARY:Usap Tayo: Hoy Tito! Watch Out for Gout Part 2 - Let’s Get Ready for the Holiday - Dec 17
DESCRIPTION:Join Tayo in a conversation on managing gout symptoms\, treatment\, and prevention in the Filipino American community as we head into the holidays. \nWe will also feature kuwentos from Titos living with gout to share how this condition affects their families\, food ways\, and fellow Filipinos. \nWhen: Wednesday\, Dec. 17\, 2025 at 8pm ET/5pm PTGuest Speakers: Dr. Agnes Solon-Ashby\, M.D. Rheumatologist and Yana Gilbuena-Babu\, Chef and WriterPanelists: Tayo Co-Founders Joshua Ang Price and Mark CalaguasRegister: https://bit.ly/TayoGoutPart2
URL:https://fylpro.org/event/usap-tayo-hoy-tito-watch-out-for-gout-part-2-lets-get-ready-for-the-holiday-dec-17/
ATTACH;FMTTYPE=image/png:https://fylpro.org/wp-content/uploads/2025/12/White-Blue-Webinar-Geometric-Modern-Flyer-A4-1.png
END:VEVENT
END:VCALENDAR