BEGIN:VCALENDAR
VERSION:2.0
PRODID:-//FYLPRO - ECPv6.15.20//NONSGML v1.0//EN
CALSCALE:GREGORIAN
METHOD:PUBLISH
X-WR-CALNAME:FYLPRO
X-ORIGINAL-URL:https://fylpro.org
X-WR-CALDESC:Events for FYLPRO
REFRESH-INTERVAL;VALUE=DURATION:PT1H
X-Robots-Tag:noindex
X-PUBLISHED-TTL:PT1H
BEGIN:VTIMEZONE
TZID:America/New_York
BEGIN:DAYLIGHT
TZOFFSETFROM:-0500
TZOFFSETTO:-0400
TZNAME:EDT
DTSTART:20240310T070000
END:DAYLIGHT
BEGIN:STANDARD
TZOFFSETFROM:-0400
TZOFFSETTO:-0500
TZNAME:EST
DTSTART:20241103T060000
END:STANDARD
BEGIN:DAYLIGHT
TZOFFSETFROM:-0500
TZOFFSETTO:-0400
TZNAME:EDT
DTSTART:20250309T070000
END:DAYLIGHT
BEGIN:STANDARD
TZOFFSETFROM:-0400
TZOFFSETTO:-0500
TZNAME:EST
DTSTART:20251102T060000
END:STANDARD
BEGIN:DAYLIGHT
TZOFFSETFROM:-0500
TZOFFSETTO:-0400
TZNAME:EDT
DTSTART:20260308T070000
END:DAYLIGHT
BEGIN:STANDARD
TZOFFSETFROM:-0400
TZOFFSETTO:-0500
TZNAME:EST
DTSTART:20261101T060000
END:STANDARD
END:VTIMEZONE
BEGIN:VEVENT
DTSTART;TZID=America/New_York:20251205T100000
DTEND;TZID=America/New_York:20251205T160000
DTSTAMP:20260424T133713
CREATED:20251030T105252Z
LAST-MODIFIED:20251030T105252Z
UID:31096-1764928800-1764950400@fylpro.org
SUMMARY:FYLPRO Leadership Summit - Dec 5 - New York City
DESCRIPTION:FYLPRO Leadership Summit | December 5 | New York City  \nFrom Leadership to Legacy\nWhere Connection Spark Global Impact  \nOur FYLPRO family is coming together in the heart of NYC for a powerful day of connection and purpose. \nThis exclusive gathering brings alumni\, board members\, members\, and special guests together to: \n-Celebrate our community’s impact\n-Spotlight alumni projects & new programs\n-Envision FYLPRO’s next chapter \nLet’s celebrate each other and shape the future of FYLPRO together! \nQueens\, New York  \n10AM – 4PM \nRegistration is required.\nLocation will be provided upon RSVP.\nPlease RSVP by November 21\, 2025. \nRSVP: https://bit.ly/FYLPROLeadershipSummit \nIf you are not a member\, join today: https://fylpro.wildapricot.org/ \nAs a volunteer-led 501(c) 3 non-profit organization\, all donations to FYLPRO are 100% tax deductible. \nEvery amount helps as we continually expand the pipeline of Filipino young leaders in the diaspora. By connecting them to the motherland\, we foster collaborative multinational relationships that create innovations and support the socio-economic progress of the global Filipino community. \nSupport us: https://fylpro.wildapricot.org/support
URL:https://fylpro.org/event/fylpro-leadership-summit-dec-5-new-york-city/
ATTACH;FMTTYPE=image/png:https://fylpro.org/wp-content/uploads/2025/10/FYLPRO_2025-Leadership-Summit.png
ORGANIZER;CN="FYLPRO":MAILTO:leezel.tanglao@fylpro.org
END:VEVENT
END:VCALENDAR