BEGIN:VCALENDAR
VERSION:2.0
PRODID:-//FYLPRO - ECPv6.15.20//NONSGML v1.0//EN
CALSCALE:GREGORIAN
METHOD:PUBLISH
X-WR-CALNAME:FYLPRO
X-ORIGINAL-URL:https://fylpro.org
X-WR-CALDESC:Events for FYLPRO
REFRESH-INTERVAL;VALUE=DURATION:PT1H
X-Robots-Tag:noindex
X-PUBLISHED-TTL:PT1H
BEGIN:VTIMEZONE
TZID:America/New_York
BEGIN:DAYLIGHT
TZOFFSETFROM:-0500
TZOFFSETTO:-0400
TZNAME:EDT
DTSTART:20240310T070000
END:DAYLIGHT
BEGIN:STANDARD
TZOFFSETFROM:-0400
TZOFFSETTO:-0500
TZNAME:EST
DTSTART:20241103T060000
END:STANDARD
BEGIN:DAYLIGHT
TZOFFSETFROM:-0500
TZOFFSETTO:-0400
TZNAME:EDT
DTSTART:20250309T070000
END:DAYLIGHT
BEGIN:STANDARD
TZOFFSETFROM:-0400
TZOFFSETTO:-0500
TZNAME:EST
DTSTART:20251102T060000
END:STANDARD
BEGIN:DAYLIGHT
TZOFFSETFROM:-0500
TZOFFSETTO:-0400
TZNAME:EDT
DTSTART:20260308T070000
END:DAYLIGHT
BEGIN:STANDARD
TZOFFSETFROM:-0400
TZOFFSETTO:-0500
TZNAME:EST
DTSTART:20261101T060000
END:STANDARD
END:VTIMEZONE
BEGIN:VEVENT
DTSTART;TZID=America/New_York:20251203T183000
DTEND;TZID=America/New_York:20251203T193000
DTSTAMP:20260424T134637
CREATED:20251127T132810Z
LAST-MODIFIED:20251127T132810Z
UID:31309-1764786600-1764790200@fylpro.org
SUMMARY:FYLPRO & Tayo Meet Up - Ottawa - December 3
DESCRIPTION:Join FYLPRO and Tayo at our meet up in Ottawa. \nMeet the local community and find out more about FYLPRO’s programs and initiatives.  \nJoin us at Sweet Puspin Filipino Dessert Bar \n42 Byward Market Square\, Ottawa\, Ontario\, K1N 7A2 \nWednesday\, December 3\, 2025 at 6:30pm \nRegister: https://bit.ly/FYLPROTayoOttawaMeetup
URL:https://fylpro.org/event/fylpro-tayo-meet-up-ottawa-december-3/
ATTACH;FMTTYPE=image/png:https://fylpro.org/wp-content/uploads/2025/11/TAYO_2025-Meetup-Ottawa-Canada.png
END:VEVENT
END:VCALENDAR