BEGIN:VCALENDAR
VERSION:2.0
PRODID:-//FYLPRO - ECPv6.15.20//NONSGML v1.0//EN
CALSCALE:GREGORIAN
METHOD:PUBLISH
X-ORIGINAL-URL:https://fylpro.org
X-WR-CALDESC:Events for FYLPRO
REFRESH-INTERVAL;VALUE=DURATION:PT1H
X-Robots-Tag:noindex
X-PUBLISHED-TTL:PT1H
BEGIN:VTIMEZONE
TZID:America/New_York
BEGIN:DAYLIGHT
TZOFFSETFROM:-0500
TZOFFSETTO:-0400
TZNAME:EDT
DTSTART:20240310T070000
END:DAYLIGHT
BEGIN:STANDARD
TZOFFSETFROM:-0400
TZOFFSETTO:-0500
TZNAME:EST
DTSTART:20241103T060000
END:STANDARD
BEGIN:DAYLIGHT
TZOFFSETFROM:-0500
TZOFFSETTO:-0400
TZNAME:EDT
DTSTART:20250309T070000
END:DAYLIGHT
BEGIN:STANDARD
TZOFFSETFROM:-0400
TZOFFSETTO:-0500
TZNAME:EST
DTSTART:20251102T060000
END:STANDARD
BEGIN:DAYLIGHT
TZOFFSETFROM:-0500
TZOFFSETTO:-0400
TZNAME:EDT
DTSTART:20260308T070000
END:DAYLIGHT
BEGIN:STANDARD
TZOFFSETFROM:-0400
TZOFFSETTO:-0500
TZNAME:EST
DTSTART:20261101T060000
END:STANDARD
END:VTIMEZONE
BEGIN:VEVENT
DTSTART;TZID=America/New_York:20250926T120000
DTEND;TZID=America/New_York:20250926T130000
DTSTAMP:20260424T193216
CREATED:20250918T115427Z
LAST-MODIFIED:20250918T115427Z
UID:30789-1758888000-1758891600@fylpro.org
SUMMARY:Webinar - Spot the Fake: Navigating AI Content Together Across Generations - Sept. 26
DESCRIPTION:Webinar: Spot the Fake: Navigating AI Content Together Across Generations \nIn today’s digital world\, the line between what’s real and what’s AI-generated is getting harder to see. From news articles to photos to everyday messages\, AI tools are shaping the content we consume\, and sometimes manipulating it. \nFYLPRO’s Tayo\, in partnership with Opt-Inspire\, Inc.\, invites you to an engaging intergenerational conversation on digital and media literacy. \nThis interactive session will: \n-Explore practical ways to identify AI-generated or manipulated content. \n-Share real case studies that make spotting the difference between “real” and “fake” more tangible. \n-Highlight protective steps anyone (whether a teen\, parent\, or grandparent) can take to stay safe online. \n-Encourage shared learning across generations to strengthen families & communities against digital misinformation. \nJoin us to build the skills and confidence to recognize what’s authentic\, protect yourself from harm\, and help those you love do the same. \nWhen: Friday\, September 26\, 2025 at 9am PT/Noon ET \nRegister: https://bit.ly/TayoSpotTheFakeWebinar
URL:https://fylpro.org/event/webinar-spot-the-fake-navigating-ai-content-together-across-generations-sept-26/
ATTACH;FMTTYPE=image/png:https://fylpro.org/wp-content/uploads/2025/09/TAYO_2025-Spot-The-Fake-Webinar.png
END:VEVENT
END:VCALENDAR