BEGIN:VCALENDAR
VERSION:2.0
PRODID:-//FYLPRO - ECPv6.15.20//NONSGML v1.0//EN
CALSCALE:GREGORIAN
METHOD:PUBLISH
X-ORIGINAL-URL:https://fylpro.org
X-WR-CALDESC:Events for FYLPRO
REFRESH-INTERVAL;VALUE=DURATION:PT1H
X-Robots-Tag:noindex
X-PUBLISHED-TTL:PT1H
BEGIN:VTIMEZONE
TZID:America/New_York
BEGIN:DAYLIGHT
TZOFFSETFROM:-0500
TZOFFSETTO:-0400
TZNAME:EDT
DTSTART:20240310T070000
END:DAYLIGHT
BEGIN:STANDARD
TZOFFSETFROM:-0400
TZOFFSETTO:-0500
TZNAME:EST
DTSTART:20241103T060000
END:STANDARD
BEGIN:DAYLIGHT
TZOFFSETFROM:-0500
TZOFFSETTO:-0400
TZNAME:EDT
DTSTART:20250309T070000
END:DAYLIGHT
BEGIN:STANDARD
TZOFFSETFROM:-0400
TZOFFSETTO:-0500
TZNAME:EST
DTSTART:20251102T060000
END:STANDARD
BEGIN:DAYLIGHT
TZOFFSETFROM:-0500
TZOFFSETTO:-0400
TZNAME:EDT
DTSTART:20260308T070000
END:DAYLIGHT
BEGIN:STANDARD
TZOFFSETFROM:-0400
TZOFFSETTO:-0500
TZNAME:EST
DTSTART:20261101T060000
END:STANDARD
END:VTIMEZONE
BEGIN:VEVENT
DTSTART;TZID=America/New_York:20250913T190000
DTEND;TZID=America/New_York:20250913T213000
DTSTAMP:20260424T192111
CREATED:20250807T113433Z
LAST-MODIFIED:20250808T231616Z
UID:30458-1757790000-1757799000@fylpro.org
SUMMARY:Tayo Virtual Youth Summit - September 13
DESCRIPTION:Filipino Young Leaders Program (FYLPRO)’s 2025 Tayo Fellows are excited to announce its inaugural virtual Youth Summit\, “Pamana: A New Generation\, A United Truth\,” this fall on Saturday\, September 13\, 2025 from 7-9:30 PM EST.     \nIn a time where future leaders are facing the issue of disinformation and historical revisionism\, it is imperative that young Filipinos are equipped to not only evaluate information\, but advocate for truth.  \nThis event is open to all individuals who share the goal of preserving history for generations to come.  \nRegister in advance for this meeting: https://bit.ly/TayoYouthSummit \nFor more information: https://www.tayohelp.com/en-us/community-news/fylpros-2025-tayo-fellows-announce-virtual-youth-summit-pamana-a-new-generation-a-united-truthnbsp
URL:https://fylpro.org/event/tayo-virtual-youth-summit/
ATTACH;FMTTYPE=image/png:https://fylpro.org/wp-content/uploads/2025/08/1-4.png
END:VEVENT
END:VCALENDAR