BEGIN:VCALENDAR
VERSION:2.0
PRODID:-//FYLPRO - ECPv6.15.20//NONSGML v1.0//EN
CALSCALE:GREGORIAN
METHOD:PUBLISH
X-ORIGINAL-URL:https://fylpro.org
X-WR-CALDESC:Events for FYLPRO
REFRESH-INTERVAL;VALUE=DURATION:PT1H
X-Robots-Tag:noindex
X-PUBLISHED-TTL:PT1H
BEGIN:VTIMEZONE
TZID:Pacific/Honolulu
BEGIN:STANDARD
TZOFFSETFROM:-1000
TZOFFSETTO:-1000
TZNAME:HST
DTSTART:20240101T000000
END:STANDARD
END:VTIMEZONE
BEGIN:VEVENT
DTSTART;TZID=Pacific/Honolulu:20250731T180000
DTEND;TZID=Pacific/Honolulu:20250731T190000
DTSTAMP:20260424T205738
CREATED:20250727T170347Z
LAST-MODIFIED:20250728T175403Z
UID:30368-1753984800-1753988400@fylpro.org
SUMMARY:Webinar: The State of Immigration - What You Need to Know - July 31
DESCRIPTION:Join us for an informative session on the latest immigration updates\, resources\, and real stories from experts and community advocates. \nIn this virtual Tayo webinar featuring FYLPRO alumni:\n-FYLPRO 2019 delegate Sergio J. Alcubilla III Esq.\, Director of Community Engagement at ACLU Hawaii\n-FYLPRO 2022 delegate and Executive Vice President Constancio Paranal III\, Managing Director at Hawaii Coalition for Immigrant Rights\n-FYLPRO 2024 delegate Nanor Wong\, Esq.\, Immigration Attorney\, The Legal Clinic \nGet an update on how current policies impact the Filipino diaspora. \nWhen: Thursday\, July 31 at 6pm Hawaii/9pm Pacific \nRegister: https://bit.ly/TayoImmigrationWebinar
URL:https://fylpro.org/event/webinar-the-state-of-immigration-what-you-need-to-know-july-31/
LOCATION:Virtual
ATTACH;FMTTYPE=image/png:https://fylpro.org/wp-content/uploads/2025/07/FYLPRO_2025-Immigration-Webinar-1.png
END:VEVENT
END:VCALENDAR