BEGIN:VCALENDAR
VERSION:2.0
PRODID:-//FYLPRO - ECPv6.15.20//NONSGML v1.0//EN
CALSCALE:GREGORIAN
METHOD:PUBLISH
X-WR-CALNAME:FYLPRO
X-ORIGINAL-URL:https://fylpro.org
X-WR-CALDESC:Events for FYLPRO
REFRESH-INTERVAL;VALUE=DURATION:PT1H
X-Robots-Tag:noindex
X-PUBLISHED-TTL:PT1H
BEGIN:VTIMEZONE
TZID:America/Los_Angeles
BEGIN:DAYLIGHT
TZOFFSETFROM:-0800
TZOFFSETTO:-0700
TZNAME:PDT
DTSTART:20240310T100000
END:DAYLIGHT
BEGIN:STANDARD
TZOFFSETFROM:-0700
TZOFFSETTO:-0800
TZNAME:PST
DTSTART:20241103T090000
END:STANDARD
BEGIN:DAYLIGHT
TZOFFSETFROM:-0800
TZOFFSETTO:-0700
TZNAME:PDT
DTSTART:20250309T100000
END:DAYLIGHT
BEGIN:STANDARD
TZOFFSETFROM:-0700
TZOFFSETTO:-0800
TZNAME:PST
DTSTART:20251102T090000
END:STANDARD
BEGIN:DAYLIGHT
TZOFFSETFROM:-0800
TZOFFSETTO:-0700
TZNAME:PDT
DTSTART:20260308T100000
END:DAYLIGHT
BEGIN:STANDARD
TZOFFSETFROM:-0700
TZOFFSETTO:-0800
TZNAME:PST
DTSTART:20261101T090000
END:STANDARD
END:VTIMEZONE
BEGIN:VEVENT
DTSTART;TZID=America/Los_Angeles:20250627T183000
DTEND;TZID=America/Los_Angeles:20250627T203000
DTSTAMP:20260425T000647
CREATED:20250621T143123Z
LAST-MODIFIED:20250621T143123Z
UID:30070-1751049000-1751056200@fylpro.org
SUMMARY:FYLPRO Roadshow: Las Vegas\, NV - June 27
DESCRIPTION:Join us for our 2025 Roadshow across the U.S. with a stop in Las Vegas\, NV on Friday\, June 27\, 2025 \nTime: 6:30 to 8:30 pm \nLocation: Provided Upon RSVP \nFind out more about FYLPRO’s programs like Tayo and initiatives for young leaders in the diaspora and how to become a member. \nOur partner L.E.A.D Filipino will provide a Las Vegas Community & Advocacy Briefing. \nRSVP: https://bit.ly/FYLPROLasVegas  \nAs a volunteer-led 501(c) 3 non-profit organization\, all donations to FYLPRO are 100% tax deductible.\nJoin as a member: fylpro.wildapricot.org \nSupport us: fylpro.wildapricot.org/support
URL:https://fylpro.org/event/fylpro-roadshow-las-vegas-nv-june-27/
ATTACH;FMTTYPE=image/png:https://fylpro.org/wp-content/uploads/2025/06/Las-Vegas-NV.png
ORGANIZER;CN="FYLPRO":MAILTO:leezel.tanglao@fylpro.org
END:VEVENT
END:VCALENDAR