BEGIN:VCALENDAR
VERSION:2.0
PRODID:-//FYLPRO - ECPv6.15.20//NONSGML v1.0//EN
CALSCALE:GREGORIAN
METHOD:PUBLISH
X-WR-CALNAME:FYLPRO
X-ORIGINAL-URL:https://fylpro.org
X-WR-CALDESC:Events for FYLPRO
REFRESH-INTERVAL;VALUE=DURATION:PT1H
X-Robots-Tag:noindex
X-PUBLISHED-TTL:PT1H
BEGIN:VTIMEZONE
TZID:America/New_York
BEGIN:DAYLIGHT
TZOFFSETFROM:-0500
TZOFFSETTO:-0400
TZNAME:EDT
DTSTART:20240310T070000
END:DAYLIGHT
BEGIN:STANDARD
TZOFFSETFROM:-0400
TZOFFSETTO:-0500
TZNAME:EST
DTSTART:20241103T060000
END:STANDARD
BEGIN:DAYLIGHT
TZOFFSETFROM:-0500
TZOFFSETTO:-0400
TZNAME:EDT
DTSTART:20250309T070000
END:DAYLIGHT
BEGIN:STANDARD
TZOFFSETFROM:-0400
TZOFFSETTO:-0500
TZNAME:EST
DTSTART:20251102T060000
END:STANDARD
BEGIN:DAYLIGHT
TZOFFSETFROM:-0500
TZOFFSETTO:-0400
TZNAME:EDT
DTSTART:20260308T070000
END:DAYLIGHT
BEGIN:STANDARD
TZOFFSETFROM:-0400
TZOFFSETTO:-0500
TZNAME:EST
DTSTART:20261101T060000
END:STANDARD
END:VTIMEZONE
BEGIN:VEVENT
DTSTART;TZID=America/New_York:20250624T180000
DTEND;TZID=America/New_York:20250624T190000
DTSTAMP:20260425T000647
CREATED:20250520T174740Z
LAST-MODIFIED:20250620T153943Z
UID:29815-1750788000-1750791600@fylpro.org
SUMMARY:FYLPRO's Tayo to Participate in Asian American Disinfo Table’s Teach In - June 24
DESCRIPTION:FYLPRO’s Tayo is participating in Asian American Disinfo Table’s upcoming teach-in series which will focus on various case studies from our recent report\, Where Do We Go From Here? Asian Americans\, Diaspora\, and Disinformation.  \nOn June 24\, Tayo will be part of the “Modern Day Impact of Historical Misinfo” teach in at 6pm ET with Malaya Movement USA and NCAPA. \nRegister: https://bit.ly/m/AADTlinks
URL:https://fylpro.org/event/fylpros-tayo-to-participate-in-asian-american-disinfo-tables-teach-in-june-24/
ATTACH;FMTTYPE=image/png:https://fylpro.org/wp-content/uploads/2025/05/6_24_25-teach-in-graphic.png
END:VEVENT
END:VCALENDAR