BEGIN:VCALENDAR
VERSION:2.0
PRODID:-//FYLPRO - ECPv6.15.20//NONSGML v1.0//EN
CALSCALE:GREGORIAN
METHOD:PUBLISH
X-ORIGINAL-URL:https://fylpro.org
X-WR-CALDESC:Events for FYLPRO
REFRESH-INTERVAL;VALUE=DURATION:PT1H
X-Robots-Tag:noindex
X-PUBLISHED-TTL:PT1H
BEGIN:VTIMEZONE
TZID:America/Denver
BEGIN:DAYLIGHT
TZOFFSETFROM:-0700
TZOFFSETTO:-0600
TZNAME:MDT
DTSTART:20240310T090000
END:DAYLIGHT
BEGIN:STANDARD
TZOFFSETFROM:-0600
TZOFFSETTO:-0700
TZNAME:MST
DTSTART:20241103T080000
END:STANDARD
BEGIN:DAYLIGHT
TZOFFSETFROM:-0700
TZOFFSETTO:-0600
TZNAME:MDT
DTSTART:20250309T090000
END:DAYLIGHT
BEGIN:STANDARD
TZOFFSETFROM:-0600
TZOFFSETTO:-0700
TZNAME:MST
DTSTART:20251102T080000
END:STANDARD
BEGIN:DAYLIGHT
TZOFFSETFROM:-0700
TZOFFSETTO:-0600
TZNAME:MDT
DTSTART:20260308T090000
END:DAYLIGHT
BEGIN:STANDARD
TZOFFSETFROM:-0600
TZOFFSETTO:-0700
TZNAME:MST
DTSTART:20261101T080000
END:STANDARD
END:VTIMEZONE
BEGIN:VEVENT
DTSTART;TZID=America/Denver:20250614T173000
DTEND;TZID=America/Denver:20250614T193000
DTSTAMP:20260425T002232
CREATED:20250517T115945Z
LAST-MODIFIED:20250517T115945Z
UID:29792-1749922200-1749929400@fylpro.org
SUMMARY:FYLPRO & Tayo Meet Up - Denver - June 14
DESCRIPTION:Join FYLPRO and Tayo at our Denver area meet up. \nMeet the local community and find out more about FYLPRO’s programs and initiatives. \nMeet us at Mango House \n10180 E Colfax Ave\, Aurora\, CO 80010 \nSaturday\, June 14\, 2025 \n5:30pm to 7:30pm \nRSVP: https://bit.ly/FYLPROTayoMeetUpDenver
URL:https://fylpro.org/event/fylpro-tayo-meet-up-denver-june-14/
ATTACH;FMTTYPE=image/png:https://fylpro.org/wp-content/uploads/2025/05/TAYO_2025-Meetup-June-Denver.png
END:VEVENT
END:VCALENDAR