BEGIN:VCALENDAR
VERSION:2.0
PRODID:-//FYLPRO - ECPv6.15.20//NONSGML v1.0//EN
CALSCALE:GREGORIAN
METHOD:PUBLISH
X-WR-CALNAME:FYLPRO
X-ORIGINAL-URL:https://fylpro.org
X-WR-CALDESC:Events for FYLPRO
REFRESH-INTERVAL;VALUE=DURATION:PT1H
X-Robots-Tag:noindex
X-PUBLISHED-TTL:PT1H
BEGIN:VTIMEZONE
TZID:Pacific/Honolulu
BEGIN:STANDARD
TZOFFSETFROM:-1000
TZOFFSETTO:-1000
TZNAME:HST
DTSTART:20240101T000000
END:STANDARD
END:VTIMEZONE
BEGIN:VTIMEZONE
TZID:America/New_York
BEGIN:DAYLIGHT
TZOFFSETFROM:-0500
TZOFFSETTO:-0400
TZNAME:EDT
DTSTART:20240310T070000
END:DAYLIGHT
BEGIN:STANDARD
TZOFFSETFROM:-0400
TZOFFSETTO:-0500
TZNAME:EST
DTSTART:20241103T060000
END:STANDARD
BEGIN:DAYLIGHT
TZOFFSETFROM:-0500
TZOFFSETTO:-0400
TZNAME:EDT
DTSTART:20250309T070000
END:DAYLIGHT
BEGIN:STANDARD
TZOFFSETFROM:-0400
TZOFFSETTO:-0500
TZNAME:EST
DTSTART:20251102T060000
END:STANDARD
BEGIN:DAYLIGHT
TZOFFSETFROM:-0500
TZOFFSETTO:-0400
TZNAME:EDT
DTSTART:20260308T070000
END:DAYLIGHT
BEGIN:STANDARD
TZOFFSETFROM:-0400
TZOFFSETTO:-0500
TZNAME:EST
DTSTART:20261101T060000
END:STANDARD
END:VTIMEZONE
BEGIN:VEVENT
DTSTART;TZID=Pacific/Honolulu:20250515T163000
DTEND;TZID=Pacific/Honolulu:20250515T190000
DTSTAMP:20260425T012728
CREATED:20250429T111527Z
LAST-MODIFIED:20250429T111527Z
UID:29678-1747326600-1747335600@fylpro.org
SUMMARY:FYLPRO Roadshow: Honolulu\, Hawaii - May 15
DESCRIPTION:Join us for our 2025 Roadshow across the U.S. with a stop in Honolulu on May 15\, 2025. \nJoin us at Consulate General of the Philippines Honolulu\n2433 HI-61\, Honolulu\, HI 96817 \nTime: 4:30 to 7:00 pm \nRegister: https://bit.ly/FYLPROHawaii2025 \nFind out more about FYLPRO’s programs like Tayo and initiatives for young leaders in the diaspora and how to become a member. \nAs a volunteer-led 501(c) 3 non-profit organization\, all donations to FYLPRO are 100% tax deductible.\nJoin as a member: fylpro.wildapricot.org \nSupport us: fylpro.wildapricot.org/support
URL:https://fylpro.org/event/fylpro-roadshow-honolulu-hawaii-may-15/
ATTACH;FMTTYPE=image/png:https://fylpro.org/wp-content/uploads/2025/04/Honolulu-HI.png
END:VEVENT
BEGIN:VEVENT
DTSTART;TZID=America/New_York:20250515T173000
DTEND;TZID=America/New_York:20250515T193000
DTSTAMP:20260425T012728
CREATED:20250429T111803Z
LAST-MODIFIED:20250429T111803Z
UID:29675-1747330200-1747337400@fylpro.org
SUMMARY:FYLPRO Roadshow: Jacksonville\, Florida - May 15
DESCRIPTION:Join us for our 2025 Roadshow across the U.S. with a stop in Jacksonville on May 15\, 2025. \nJoin us at Posewell Studios\, 2107 Dellwood Ave. Jacksonville\, FL 32204 \nTime: 5:30 to 7:30 pm \nRegister: https://bit.ly/FYLPROJacksonville2025 \nFind out more about FYLPRO’s programs like Tayo and initiatives for young leaders in the diaspora and how to become a member. \nAs a volunteer-led 501(c) 3 non-profit organization\, all donations to FYLPRO are 100% tax deductible.\nJoin as a member: fylpro.wildapricot.org \nSupport us: fylpro.wildapricot.org/support
URL:https://fylpro.org/event/fylpro-roadshow-jacksonville-florida-may-15/
ATTACH;FMTTYPE=image/png:https://fylpro.org/wp-content/uploads/2025/04/Jacksonville-FL.png
END:VEVENT
END:VCALENDAR